{"text_format":"3","workbook":"xlsx","n_sheets":1,"sheets":["JUNIOR"],"not_rendered":{"images":1,"external_links":1,"defined_names":1},"read":"whole","date_system":"1900"}

{"sheet":"JUNIOR","index":0,"n_rows":70,"n_cols":23,"rows_kept":70,"merged":[[0,0,0,22],[1,0,2,2],[1,3,2,5],[1,6,2,9],[1,10,2,13],[1,14,1,15],[1,16,2,19],[1,20,2,22],[3,0,3,3],[3,5,4,5],[3,8,5,9],[3,10,5,10],[3,11,3,16],[3,17,4,18],[3,19,4,22],[4,0,4,3],[4,11,4,12],[4,13,4,14],[4,15,4,16],[5,3,5,7],[5,19,5,20],[5,21,5,22],[6,3,6,7],[6,19,6,20],[6,21,6,22],[7,0,14,0],[7,3,7,7],[7,19,7,20],[7,21,7,22],[8,3,8,7],[8,19,8,20],[8,21,8,22],[9,3,9,7],[9,19,9,20],[9,21,9,22],[10,3,10,7],[10,19,10,20],[10,21,10,22],[11,3,11,7],[11,19,11,20],[11,21,11,22],[12,3,12,7],[12,19,12,20],[12,21,12,22],[13,3,13,7],[13,19,13,20],[13,21,13,22],[14,3,14,7],[14,19,14,20],[14,21,14,22],[15,3,15,7],[15,19,15,20],[15,21,15,22],[16,2,20,2],[16,3,16,7],[16,19,16,20],[16,21,16,22],[17,3,17,7],[17,19,17,20],[17,21,17,22],[18,3,18,7],[18,19,18,20],[18,21,18,22],[19,3,19,7],[19,19,19,20],[19,21,19,22],[20,3,20,7],[20,19,20,20],[20,21,20,22],[21,4,24,6],[22,0,23,3],[24,2,24,3],[25,0,25,3],[25,4,28,6],[26,0,27,3],[28,1,28,3],[29,0,29,22],[30,0,30,3],[30,5,31,5],[30,8,32,9],[30,10,32,10],[30,11,30,16],[30,17,31,18],[30,19,31,22],[31,0,31,3],[31,11,31,12],[31,13,31,14],[31,15,31,16],[32,3,32,7],[32,19,32,20],[32,21,32,22],[33,3,33,7],[33,19,33,20],[33,21,33,22],[34,0,41,0],[34,3,34,7],[34,19,34,20],[34,21,34,22],[35,3,35,7],[35,19,35,20],[35,21,35,22],[36,3,36,7],[36,19,36,20],[36,21,36,22],[37,3,37,7],[37,19,37,20],[37,21,37,22],[38,3,38,7],[38,19,38,20],[38,21,38,22],[39,3,39,7],[39,19,39,20],[39,21,39,22],[40,3,40,7],[40,19,40,20],[40,21,40,22],[41,3,41,7],[41,19,41,20],[41,21,41,22],[42,3,42,7],[42,19,42,20],[42,21,42,22],[43,2,47,2],[43,3,43,7],[43,19,43,20],[43,21,43,22],[44,3,44,7],[44,19,44,20],[44,21,44,22],[45,3,45,7],[45,19,45,20],[45,21,45,22],[46,3,46,7],[46,19,46,20],[46,21,46,22],[47,3,47,7],[47,19,47,20],[47,21,47,22],[48,4,51,6],[49,0,50,3],[51,2,51,3],[52,0,52,3],[52,4,55,6],[53,0,54,3],[55,1,55,3],[56,0,56,1],[56,12,56,16],[56,17,57,22],[57,0,58,1],[58,17,58,19],[58,20,58,22],[59,0,59,5],[59,6,59,13],[59,14,59,22],[60,0,60,1],[60,2,60,5],[60,6,60,7],[60,8,60,13],[60,14,60,15],[60,16,60,22],[61,1,61,5],[61,7,61,13],[61,15,61,22],[62,0,68,14],[62,15,65,18],[62,19,65,22],[66,15,69,18],[66,19,69,22],[69,0,69,14]]}
["FEDERACION PORTEÑA DE PATIN\nHOCKEY SOBRE PATINES 2024"]
["Fecha(D/M/A):   ",null,null,"Pista:  ",null,null,"Campeonato:  ",{"$nulls":3},"Categoria:  ",{"$nulls":3},"Rama:",null,"Hora de Inicio:   ",{"$nulls":3},"Nº Fecha:  "]
[{"$nulls":14},"Fem","Masc."]
["CLUB LOCAL:",{"$nulls":3},"Saque","Minuto"," 1º T","2ºT","FALTAS DE EQUIPO",null,"ADV.","Periodo Inferioridad - 2'",{"$nulls":5},"Per.Inf.\nT. Roja 4'",null,"Periodo inferioridad de Equipo"]
[{"$nulls":4},"2° T",null,"1º T","2ºT",{"$nulls":3},"T. Azul 1",null,"T. Azul 2",null,"T. Azul 3"]
[null,"Nº Lic.","Nro.","Apellido y Nombre",{"$nulls":7},"Inicio","Term","Inicio","Term","Inicio","Term","Inicio","Term","Inicio",null,"Term"]
["ARQ",{"$nulls":7},1,{"$f":"I21+1","v":16}]
[{"$nulls":8},2,{"$f":"J7+1","v":17}]
[{"$nulls":8},3,{"$f":"J8+1","v":18}]
[{"$nulls":8},4,19]
[{"$nulls":8},5,20]
[{"$nulls":8},6,21]
[{"$nulls":8},7,22]
[{"$nulls":8},8,23]
[{"$nulls":8},9,24]
["ARQ",{"$nulls":7},10,25]
["D.T.",{"$nulls":7},{"$f":"I16+1","v":11},26]
["DEL.",{"$nulls":7},{"$f":"I17+1","v":12},27]
["DEL.",{"$nulls":7},13,28]
["P.F.",{"$nulls":7},14,29]
["AUX",{"$nulls":7},15,30]
["Capitan Local:",{"$nulls":3},"Firma:",null,null,"Gol",1,2,3,4,{"$f":"L22+1","v":5},6,7,8,9,10,11,12,13,14,15]
[{"$nulls":7},"T"]
[{"$nulls":7},"Min."]
["Nº de Camiseta:",{"$nulls":6},"Jug."]
["Delegado Local:",{"$nulls":3},"Firma:",null,null,"Gol",16,{"$f":"I26+1","v":17},{"$f":"J26+1","v":18},19,20,21,22,23,24,25,26,27,28,29,30]
[{"$nulls":7},"T"]
[{"$nulls":7},"Min."]
["DNI:",{"$nulls":6},"Jug."]
[]
["CLUB VISITANTE:",{"$nulls":3},"Saque","Minuto"," 1º T","2ºT","FALTAS DE EQUIPO",null,"ADV.","Periodo Inferioridad - 2'",{"$nulls":5},"Per.Inf.\nT. Roja 4'",null,"Periodo inferioridad de Equipo"]
[{"$nulls":4},"1° T",null,"1º T","2ºT",{"$nulls":3},"T. Azul 1",null,"T. Azul 2",null,"T. Azul 3"]
[null,"Nº Lic.","Nro.","Apellido y Nombre",{"$nulls":7},"Inicio","Term","Inicio","Term","Inicio","Term","Inicio","Term","Inicio",null,"Term"]
["ARQ",{"$nulls":7},1,{"$f":"I48+1","v":16}]
[{"$nulls":8},2,{"$f":"J34+1","v":17}]
[{"$nulls":8},3,{"$f":"J35+1","v":18}]
[{"$nulls":8},4,19]
[{"$nulls":8},5,20]
[{"$nulls":8},6,21]
[{"$nulls":8},7,22]
[{"$nulls":8},8,23]
[{"$nulls":8},9,24]
["ARQ",{"$nulls":7},10,25]
["D.T.",{"$nulls":7},{"$f":"I43+1","v":11},26]
["DEL.",{"$nulls":7},{"$f":"I44+1","v":12},27]
["DEL.",{"$nulls":7},13,28]
["P.F.",{"$nulls":7},14,29]
["AUX",{"$nulls":7},15,30]
["Capitan Visitante:                                                                            ",{"$nulls":3},"Firma:",null,null,"Gol",1,2,3,4,{"$f":"L49+1","v":5},6,7,8,9,10,11,12,13,14,15]
[{"$nulls":7},"T"]
[{"$nulls":7},"Min."]
["Nº de Camiseta:",{"$nulls":6},"Jug."]
["Delegado Visitante:",{"$nulls":3},"Firma:",null,null,"Gol",16,{"$f":"I53+1","v":17},{"$f":"J53+1","v":18},19,20,21,22,23,24,25,26,27,28,29,30]
[{"$nulls":7},"T"]
[{"$nulls":7},"Min."]
["DNI:",{"$nulls":6},"Jug."]
["PLANILLERO FIRMA",null,"HORA","1° TIEMP","2° TIEMP","Resultado","1º T","2º T","FINAL","1º Sup","2º Sup","F Sup","LIBRE - PENAL",{"$nulls":4},"RESULTADO  FINAL\nLocal                                   Visita"]
[null,null,"Incio",null,null,"LOCAL"]
[null,null,"Fin",null,null,"VISITA"]
["Firma 1er Arbitro\n",{"$nulls":5},"Firma Arbitro de Mesa",{"$nulls":7},"Firma 2do Arbitro"]
["Aclaración:",{"$nulls":5},"Aclaración:",null,"",{"$nulls":5},"Aclaración:"]
["DNI:",{"$f":"IF(C61=\"\",\"\",(VLOOKUP(C61,[1]!PADRON[#Data],2,FALSE)))","v":""},{"$f":"IF(E62=\"\",\"\",(VLOOKUP(E62,'[1]PADRON GRAL'!$A$2:$B$1075,2,FALSE)))","v":{"$error":"#N/A"}},{"$f":"IF(F62=\"\",\"\",(VLOOKUP(F62,'[1]PADRON GRAL'!$A$2:$B$1075,2,FALSE)))","v":""},{"$f":"IF(G62=\"\",\"\",(VLOOKUP(G62,'[1]PADRON GRAL'!$A$2:$B$1075,2,FALSE)))","v":{"$error":"#N/A"}},{"$f":"IF(H62=\"\",\"\",(VLOOKUP(H62,'[1]PADRON GRAL'!$A$2:$B$1075,2,FALSE)))","v":""},"DNI:",{"$f":"IF(I61=\"\",\"\",(VLOOKUP(I61,[1]!PADRON[#Data],2,FALSE)))","v":""},{"$f":"IF(K62=\"\",\"\",(VLOOKUP(K62,'[1]PADRON GRAL'!$A$2:$B$1075,2,FALSE)))","v":{"$error":"#N/A"}},{"$f":"IF(L62=\"\",\"\",(VLOOKUP(L62,'[1]PADRON GRAL'!$A$2:$B$1075,2,FALSE)))","v":""},{"$f":"IF(M62=\"\",\"\",(VLOOKUP(M62,'[1]PADRON GRAL'!$A$2:$B$1075,2,FALSE)))","v":{"$error":"#N/A"}},{"$f":"IF(N62=\"\",\"\",(VLOOKUP(N62,'[1]PADRON GRAL'!$A$2:$B$1075,2,FALSE)))","v":""},{"$f":"IF(O62=\"\",\"\",(VLOOKUP(O62,'[1]PADRON GRAL'!$A$2:$B$1075,2,FALSE)))","v":{"$error":"#N/A"}},{"$f":"IF(P62=\"\",\"\",(VLOOKUP(P62,'[1]PADRON GRAL'!$A$2:$B$1075,2,FALSE)))","v":""},"DNI:",{"$f":"IF(Q61=\"\",\"\",(VLOOKUP(Q61,[1]!PADRON[#Data],2,FALSE)))","v":""},{"$f":"IF(S62=\"\",\"\",(VLOOKUP(S62,'[1]PADRON GRAL'!$A$2:$B$1076,2,FALSE)))","v":""},{"$f":"IF(T62=\"\",\"\",(VLOOKUP(T62,'[1]PADRON GRAL'!$A$2:$B$1075,2,FALSE)))","v":""},{"$f":"IF(U62=\"\",\"\",(VLOOKUP(U62,'[1]PADRON GRAL'!$A$2:$B$1076,2,FALSE)))","v":""},{"$f":"IF(V62=\"\",\"\",(VLOOKUP(V62,'[1]PADRON GRAL'!$A$2:$B$1075,2,FALSE)))","v":""},{"$f":"IF(W62=\"\",\"\",(VLOOKUP(W62,'[1]PADRON GRAL'!$A$2:$B$1076,2,FALSE)))","v":""},{"$f":"IF(X62=\"\",\"\",(VLOOKUP(X62,'[1]PADRON GRAL'!$A$2:$B$1076,2,FALSE)))","v":""},{"$f":"IF(Y62=\"\",\"\",(VLOOKUP(Y62,'[1]PADRON GRAL'!$A$2:$B$1076,2,FALSE)))","v":""}]
["*OBSERVACIONES:",{"$nulls":14},"Firma 1er Arbitro",{"$nulls":3},"Firma 2do Arbitro"]
[]
[]
[]
[{"$nulls":15},"Firma Delegado (L)",{"$nulls":3},"Firma Delegado (V)"]
[]
[]
[" *(DE EXISTIR INFORME, LA PLANILLA DEBE ESTAR FIRMADA EN ESTE CAMPO Y SER PRESENTADA CON EL MISMO)"]